BEGIN:VCALENDAR
VERSION:2.0
PRODID:-//Plone.org//NONSGML plone.app.event//EN
X-WR-TIMEZONE:America/Maceio
BEGIN:VEVENT
SUMMARY:O CNPEM é Pra Você na UFAL - 2025
DTSTART;TZID=America/Maceio:20251119T080000
DTEND;TZID=America/Maceio:20251119T123000
DTSTAMP:20260420T015603Z
UID:33b669b0ffa34773afe28e94b077d4b7@principal.ufal.br
CONTACT:Prof. David Sampaio\, dvsampaio@fis.ufal.br\, https://forms.gle/89
 XZAKdSZnDB8Tkq6
CREATED:20251107T124019Z
DESCRIPTION:Evento gratuito contando com palestras de pesquisadores do Cen
 tro Nacional de Pesquisa em Energia e Materiais (CNPEM)!
LAST-MODIFIED:20251107T124239Z
LOCATION:Auditório do Instituto de Física da UFAL
URL:https://ufal.br/ufal/pesquisa-e-inovacao/cnpem-ufal/eventos/o-cnpem-e-
 pra-voce-na-ufal-2025
END:VEVENT
BEGIN:VTIMEZONE
TZID:America/Maceio
X-LIC-LOCATION:America/Maceio
BEGIN:STANDARD
DTSTART:20020216T230000
TZNAME:-03
TZOFFSETFROM:-0200
TZOFFSETTO:-0300
END:STANDARD
END:VTIMEZONE
END:VCALENDAR
