BEGIN:VCALENDAR
VERSION:2.0
PRODID:-//Plone.org//NONSGML plone.app.event//EN
X-WR-TIMEZONE:America/Maceio
BEGIN:VEVENT
SUMMARY:Usina Ciência celebra Dia da Mulher com palestras e atividades cu
 lturais
DTSTART;TZID=America/Maceio:20190308T070000
DTEND;TZID=America/Maceio:20190308T120000
DTSTAMP:20260420T213516Z
UID:d6cd21432b21470197b078ae46f2e57d@principal.ufal.br
CONTACT:https://ufal.br/ufal/noticias/2019/3/usina-ciencia-celebra-dia-da-
 mulher-com-palestras-e-atividades-culturais
CREATED:20190307T171159Z
DESCRIPTION:Nesta sexta-feira\, 8 de março\, a Usina Ciência da Ufal mon
 tou uma programação especial para celebrar o Dia Internacional da Mulher
 . Segundo os organizadores\, o objetivo é refletir sobre ciência e mater
 nidade\, além de questões referentes à Lei Maria da Penha. A programaç
 ão começa às 7h.
LAST-MODIFIED:20190307T171210Z
URL:https://ufal.br/ufal/extensao/cultura/2019/usina-ciencia-celebra-dia-d
 a-mulher-com-palestras-e-atividades-culturais
END:VEVENT
BEGIN:VTIMEZONE
TZID:America/Maceio
X-LIC-LOCATION:America/Maceio
BEGIN:STANDARD
DTSTART:20020216T230000
TZNAME:-03
TZOFFSETFROM:-0200
TZOFFSETTO:-0300
END:STANDARD
END:VTIMEZONE
END:VCALENDAR
