BEGIN:VCALENDAR
VERSION:2.0
PRODID:-//Plone.org//NONSGML plone.app.event//EN
X-WR-TIMEZONE:America/Maceio
BEGIN:VEVENT
SUMMARY:Trio Ybirá e percussionista Augusto Moralez fazem concerto no Iph
 an-AL
DTSTART;TZID=America/Maceio:20190410T190000
DTEND;TZID=America/Maceio:20190410T200000
DTSTAMP:20260420T130159Z
UID:9ea7505d5b094423aa446437f15d1c34@principal.ufal.br
CREATED:20190405T181545Z
DESCRIPTION:Um noite regada a boa música espera por você\, próximo 10 d
 e abril\, na sede Instituto do Patrimônio Histórico e Artístico Naciona
 l (Iphan-AL)\, no bairro de Jaraguá\, em Maceió. É mais uma promoção 
 do Núcleo de Percussão (NUP) da Universidade Federal de Alagoas que apre
 sentará o Trio Ybirá e o percussionista Augusto Moralez\, a partir das 1
 9h\, com entrada gratuita.
LAST-MODIFIED:20190405T181552Z
URL:https://ufal.br/ufal/extensao/cultura/2019/trio-ybira-e-percussionista
 -augusto-moralez-fazem-concerto-no-iphan-al-1
END:VEVENT
BEGIN:VTIMEZONE
TZID:America/Maceio
X-LIC-LOCATION:America/Maceio
BEGIN:STANDARD
DTSTART:20020216T230000
TZNAME:-03
TZOFFSETFROM:-0200
TZOFFSETTO:-0300
END:STANDARD
END:VTIMEZONE
END:VCALENDAR
