BEGIN:VCALENDAR
VERSION:2.0
PRODID:-//Plone.org//NONSGML plone.app.event//EN
X-WR-TIMEZONE:America/Maceio
BEGIN:VEVENT
SUMMARY:Sil\, a nova exposição temporária no Museu Théo Brandão
DTSTART;TZID=America/Maceio:20190517T190000
DTEND;TZID=America/Maceio:20190517T220000
DTSTAMP:20260420T134318Z
UID:c8c3798345134ff3854520ae883f23db@principal.ufal.br
CREATED:20190509T201236Z
DESCRIPTION:No próximo 17 de maio\, o Museu Théo Brandão de Antropologi
 a e Folclore vai homenagear a artesã Sil de Capela\, com a entrega do Pr
 êmio Gustavo Leite de Artista Popular do Ano.  A solenidade começa às 1
 9h. Na ocasião\, também haverá abertura da próxima exposição tempor
 ária no MTB\, intitulada Sil. Serão 12 peças da artista alagoana feita 
 de sonhos\, garra\, fé e barro\, além de fotografias das peças\, de aut
 oria do fotógrafo Thiago Sobral. \nA exposição tem curadoria da museól
 oga Hildênia Oliveira e de Thaisa Sampaio. O projeto expográfico é de a
 lunos do curso de Design da Ufal. O Museu Théo Brandão é o realizador d
 o evento e conta com a parceria da Secretaria de Estado da Cultura (Secult
 ) e da Prefeitura de Capela\, que são os patrocinadores.\n\nPara mais inf
 ormações ligue 3214-1713.
LAST-MODIFIED:20190509T201252Z
URL:https://ufal.br/ufal/extensao/cultura/2019/sil-a-nova-exposicao-tempor
 aria-no-museu-theo-brandao
END:VEVENT
BEGIN:VTIMEZONE
TZID:America/Maceio
X-LIC-LOCATION:America/Maceio
BEGIN:STANDARD
DTSTART:20020216T230000
TZNAME:-03
TZOFFSETFROM:-0200
TZOFFSETTO:-0300
END:STANDARD
END:VTIMEZONE
END:VCALENDAR
