BEGIN:VCALENDAR
VERSION:2.0
PRODID:-//Plone.org//NONSGML plone.app.event//EN
X-WR-TIMEZONE:America/Maceio
BEGIN:VEVENT
SUMMARY:Shows no Fim de Semana no Museu
DTSTART;TZID=America/Maceio:20190518T090000
DTEND;TZID=America/Maceio:20190519T170000
DTSTAMP:20260419T163129Z
UID:81cbd89d58314aaaaf907fe70f632ff3@principal.ufal.br
CREATED:20190514T203210Z
DESCRIPTION:Próximos sábado e domingo\, teremos o 26º Fim de Semana no 
 Museu. Mais um grande momento promovido por nosso Museu de História Natur
 al. A programação começa às 9h e vai até as 17h.\nNo sábado (18)\, t
 eremos oficinas de pintura\, de cerâmica\,de pilões\, de jogo da memóri
 a e de lança. O primeiro dia termina com show do grupo LPM - Laboratório
  de Performance Musical\, ligado ao curso de licenciatura em Música\, coo
 rdenado pelo professor Milson Fireman.\nNo domingo\, teremos várias ofici
 nas\, inclusive de bonecas\, e contação de histórias. O fim de semana t
 ermina com show da banda Emenda Provisória e apresentação do Lab Dança
 \, projeto do curso de licenciatura em Dança\, coordenado pela professora
  Noemi Loureiro.\nSó lembrando\, é tudo gratuito e as oficinas terão n
 úmero limitado de inscritos: no máximo 15 pessoas. \nO MHN está instala
 do no antigo prédio do Instituto de Ciências Biológicas da Ufal\, na Av
 enida Amazonas\, no bairro do Prado\, em frente à praça da Faculdade. Ma
 is informações pelo e-mail mhnufal@gmail.com.
LAST-MODIFIED:20190514T203217Z
URL:https://ufal.br/ufal/extensao/cultura/2019/shows-no-fim-de-semana-no-m
 useu
END:VEVENT
BEGIN:VTIMEZONE
TZID:America/Maceio
X-LIC-LOCATION:America/Maceio
BEGIN:STANDARD
DTSTART:20020216T230000
TZNAME:-03
TZOFFSETFROM:-0200
TZOFFSETTO:-0300
END:STANDARD
END:VTIMEZONE
END:VCALENDAR
