BEGIN:VCALENDAR
VERSION:2.0
PRODID:-//Plone.org//NONSGML plone.app.event//EN
X-WR-TIMEZONE:America/Maceio
BEGIN:VEVENT
SUMMARY:Pluralidades cênicas acontece na Ufal de 25 a 29 de março
DTSTART;TZID=America/Maceio:20190325T133000
DTEND;TZID=America/Maceio:20190325T185000
DTSTAMP:20260420T174447Z
UID:ede6cdb3d9dd4796afe28a672adbfc21@principal.ufal.br
CREATED:20190319T203309Z
DESCRIPTION:A Semana Acadêmica do curso de licenciatura em Teatro apresen
 ta Pluralidades Cênicas\, de 25 a 29 deste mês. O evento acontece no Esp
 aço Cultural da Ufal\, na Praça Visconde de Sinimbu\, das 13h30 às 18h5
 0. Na programação estão previstas várias atividades: oficinas\, mostra
 s de disciplinas\, apresentações de pesquisas e artísticas\, mesas-redo
 ndas\, entre outras.
LAST-MODIFIED:20190319T203317Z
URL:https://ufal.br/ufal/extensao/cultura/2019/pluralidades-cenicas-aconte
 ce-na-ufal-de-25-a-29-de-marco
END:VEVENT
BEGIN:VTIMEZONE
TZID:America/Maceio
X-LIC-LOCATION:America/Maceio
BEGIN:STANDARD
DTSTART:20020216T230000
TZNAME:-03
TZOFFSETFROM:-0200
TZOFFSETTO:-0300
END:STANDARD
END:VTIMEZONE
END:VCALENDAR
