BEGIN:VCALENDAR
VERSION:2.0
PRODID:-//Plone.org//NONSGML plone.app.event//EN
X-WR-TIMEZONE:America/Maceio
BEGIN:VEVENT
SUMMARY:Oficinas gratuitas de iniciação à perna de pau
DTSTART;TZID=America/Maceio:20190518T140000
DTEND;TZID=America/Maceio:20190811T180000
DTSTAMP:20260420T045757Z
UID:d2053e794fd240479b3b65d815ab7ec5@principal.ufal.br
CREATED:20190514T192414Z
DESCRIPTION:Se você quer se tornar um pernalta\, então\, aproveita essa 
 oportunidade! Nossa Escola Técnica de Artes e a Fundação Municipal de A
 ção Cultural estão promovendo duas Oficinas de iniciação à perna de 
 pau. \n\nÉ de graça e cada turma tem 15 vagas disponíveis\; as inscriç
 ões estão abertas e podem ser feitas pelo e-mail janesantos2020@gmail.co
 m. \n\nAs oficinas acontecerão na sede da Associação Teatral Joana Gaju
 ru\, na Rua General Portugal Ramalho\, no Farol. A primeira turma será no
 s dias 18 e 25 de maio\, 1º e 8 de junho\, das 14h às 18h.  E no dia 9 d
 e junho\, os participantes sairão em cortejo pela rua fechada\, na orla d
 e Ponta Verde\, com atividades das 9h às 13h.\n\nA segunda turma também 
 terá atividades na Associação Teatral Joana Gajuru\, nos dias 20 e 27 d
 e julho\, 3 e 10 de agosto.  No dia 11 de agosto\, haverá  saída e corte
 jo na rua fechada da Ponta Verde\, das 9h às 13h.
LAST-MODIFIED:20190514T192626Z
URL:https://ufal.br/ufal/extensao/cultura/2019/oficinas-gratuitas-de-inici
 acao-a-perna-de-pau
END:VEVENT
BEGIN:VTIMEZONE
TZID:America/Maceio
X-LIC-LOCATION:America/Maceio
BEGIN:STANDARD
DTSTART:20020216T230000
TZNAME:-03
TZOFFSETFROM:-0200
TZOFFSETTO:-0300
END:STANDARD
END:VTIMEZONE
END:VCALENDAR
