BEGIN:VCALENDAR
VERSION:2.0
PRODID:-//Plone.org//NONSGML plone.app.event//EN
X-WR-TIMEZONE:America/Maceio
BEGIN:VEVENT
SUMMARY:NUP promove cursos de zabumba pandeiro\, bateria\, atabaques\, con
 gas e rudimentos de caixa
DTSTART;TZID=America/Maceio:20190211T130000
DTEND;TZID=America/Maceio:20190211T140000
DTSTAMP:20260421T033433Z
UID:f4876bf77ec94028b1d0c6e4dfa7ee1b@principal.ufal.br
CONTACT:https://ufal.br/ufal/noticias/2019/2/nucleo-de-percussao-abre-35-v
 agas-em-cursos-de-extensao-gratuitos
CREATED:20190204T164034Z
DESCRIPTION:Quem quiser aprender a tocar zabumba\, pandeiro\, bateria\, at
 abaques e congas e rudimentos de caixa pode aproveitar a chance\, porque o
  Núcleo de Percussão (NUP) da Universidade Federal de Alagoas está ofer
 ecendo cinco cursos de extensão gratuitos. São 35 vagas destinadas a jov
 ens que já concluíram o ensino médio ou estão cursando o último ano.\
 nOs interessados devem ir ao Espaço Cultural da Ufal\, na Praça Visconde
  de Sinimbu\, no próximo dia 11 de fevereiro\, meia hora antes do início
  da primeira aula\, marcada para 13h30\, para fazer inscrição e particip
 ar da seleção. As atividades serão ministradas por Augusto Moralez\, co
 ordenador do NUP e professor de Percussão da Escola Técnica de Artes (ET
 A)\; Élisson Xuxa\; Manu Preta\, Anderson Melo e Maglione Santos.
LAST-MODIFIED:20190204T164126Z
URL:https://ufal.br/ufal/extensao/cultura/2019/nup-promove-cursos-de-zabum
 ba-pandeiro-bateria-atabaques-congas-e-rudimentos-de-caixa
END:VEVENT
BEGIN:VTIMEZONE
TZID:America/Maceio
X-LIC-LOCATION:America/Maceio
BEGIN:STANDARD
DTSTART:20020216T230000
TZNAME:-03
TZOFFSETFROM:-0200
TZOFFSETTO:-0300
END:STANDARD
END:VTIMEZONE
END:VCALENDAR
