BEGIN:VCALENDAR
VERSION:2.0
PRODID:-//Plone.org//NONSGML plone.app.event//EN
X-WR-TIMEZONE:America/Maceio
BEGIN:VEVENT
SUMMARY:NUP lança projeto Encontro com os mestres alagoanos da percussão
DTSTART;TZID=America/Maceio:20190226T110000
DTEND;TZID=America/Maceio:20190226T120000
DTSTAMP:20260420T182150Z
UID:b1aec500e9314023aef07d08ee1a2916@principal.ufal.br
CONTACT:https://ufal.br/ufal/noticias/2019/2/nup-lanca-projeto-encontro-co
 m-mestres-da-alagoanos-da-percussao
CREATED:20190221T175928Z
DESCRIPTION:Grandes nomes da arte percussiva vão dividir suas experiênci
 as e técnicas com estudantes dos cursos técnico e de graduação da Ufal
 \, bem como com percussionistas e bateristas de Maceió. Essa é a propost
 a do novo projeto de extensão Encontro com os mestres alagoanos\, do Núc
 leo de Percussão (NUP) da Ufal\, que\, nesse primeiro semestre\, vai movi
 mentar o Espaço Cultural com a presença de convidados especiais. Os bate
 ristas Marcius Campello\, Vitor Alves\, Leo Costa e Maglione Santos vão m
 inistrar masterclasses gratuitas. O primeiro será Marcius Campello\, no p
 róximo dia 26\, às 11h.
LAST-MODIFIED:20190221T175939Z
URL:https://ufal.br/ufal/extensao/cultura/2019/nup-lanca-projeto-encontro-
 com-os-mestres-alagoanos-da-percussao
END:VEVENT
BEGIN:VTIMEZONE
TZID:America/Maceio
X-LIC-LOCATION:America/Maceio
BEGIN:STANDARD
DTSTART:20020216T230000
TZNAME:-03
TZOFFSETFROM:-0200
TZOFFSETTO:-0300
END:STANDARD
END:VTIMEZONE
END:VCALENDAR
