BEGIN:VCALENDAR
VERSION:2.0
PRODID:-//Plone.org//NONSGML plone.app.event//EN
X-WR-TIMEZONE:America/Maceio
BEGIN:VEVENT
SUMMARY:Núcleo de Percussão apresenta três concertos de vibrafone
DTSTART;TZID=America/Maceio:20190215T170000
DTEND;TZID=America/Maceio:20190215T180000
DTSTAMP:20260420T062736Z
UID:d5f7a47d502343d8b7a5d659cfac7056@principal.ufal.br
CONTACT:https://ufal.br/ufal/noticias/2019/2/nucleo-de-percussao-apresenta
 -tres-concertos-de-vibrafone
CREATED:20190213T172243Z
DESCRIPTION:O Núcleo de Percussão (NUP) apresenta três concertos de Vib
 rafone\, com Augusto Moralez\, professor da Escola Técnica de Artes. Na p
 róxima sexta-feira\, 15 de fevereiro\, às 17h\, na sala do NUP\, que fun
 ciona no Espaço Cultural da Ufal\, na Praça Visconde de Sinimbu. Dia 15 
 de março será a segunda apresentação\, no mesmo local e horário. O ú
 ltimo está marcado para 16 de abril\, às 17h\, também no Núcleo.
LAST-MODIFIED:20190213T172703Z
URL:https://ufal.br/ufal/extensao/cultura/2019/nucleo-de-percussao-apresen
 ta-tres-concertos-de-vibrafone
END:VEVENT
BEGIN:VTIMEZONE
TZID:America/Maceio
X-LIC-LOCATION:America/Maceio
BEGIN:STANDARD
DTSTART:20020216T230000
TZNAME:-03
TZOFFSETFROM:-0200
TZOFFSETTO:-0300
END:STANDARD
END:VTIMEZONE
END:VCALENDAR
