BEGIN:VCALENDAR
VERSION:2.0
PRODID:-//Plone.org//NONSGML plone.app.event//EN
X-WR-TIMEZONE:America/Maceio
BEGIN:VEVENT
SUMMARY:Núcleo de Percussão apresenta O pandeiro no choro\, com Flora Mi
 lito do Rio de Janeiro
DTSTART;TZID=America/Maceio:20190408T130000
DTEND;TZID=America/Maceio:20190408T140000
DTSTAMP:20260421T020831Z
UID:f2305f9af8d84368909bc3ca81d8f6f6@principal.ufal.br
CONTACT:https://ufal.br/ufal/noticias/2019/4/nucleo-de-percussao-apresenta
 -o-pandeiro-no-choro
CREATED:20190404T180025Z
DESCRIPTION:O Espaço Cultural da Universidade Federal de Alagoas abre ala
 s para o som do pandeiro passar. E quem vai comandar o cortejo é Flora Mi
 lito\, do Rio de Janeiro\, convidada pelo Núcleo de Percussão da Ufal pa
 ra a master class O pandeiro no choro. Será na próxima segunda\, 8 de ab
 ril\, às 13h\, e a entrada é gratuita. É só chegar e aproveitar a expe
 riência dessa profissional que atua nas áreas de choro\, samba canção 
 e música instrumental\, em diversas frentes de trabalho. A trajetória ar
 tística de Flora é bem recheada e se você gosta de percussão\, seja ho
 mem ou mulher\, aproveita essa oportunidade!
LAST-MODIFIED:20190405T180849Z
URL:https://ufal.br/ufal/extensao/cultura/2019/nucleo-de-percussao-apresen
 ta-o-pandeiro-no-choro-com-flora-milito-do-rio-de-janeiro
END:VEVENT
BEGIN:VTIMEZONE
TZID:America/Maceio
X-LIC-LOCATION:America/Maceio
BEGIN:STANDARD
DTSTART:20020216T230000
TZNAME:-03
TZOFFSETFROM:-0200
TZOFFSETTO:-0300
END:STANDARD
END:VTIMEZONE
END:VCALENDAR
