BEGIN:VCALENDAR
VERSION:2.0
PRODID:-//Plone.org//NONSGML plone.app.event//EN
X-WR-TIMEZONE:America/Maceio
BEGIN:VEVENT
SUMMARY:Museu Théo Brandão abrirá também nos fins de semana
DTSTART;TZID=America/Maceio:20190325T000000
DTEND;TZID=America/Maceio:20190326T170000
DTSTAMP:20260420T203345Z
UID:191d55e4c0ad49afadd70de40559ad40@principal.ufal.br
CREATED:20190320T193015Z
DESCRIPTION:O novo diretor Victor Sarmento já organizou a equipe e\, a pa
 rtir do próximo sábado (23)\, nosso Museu Théo Brandão vai abrir tamb
 ém para visitação todo fim de semana\, do meio-dia às 17h. Muito legal
 \, né? Pra quem trabalha durante a semana\, agora não tem desculpa\, col
 oque na agenda porque vale a pena conhecer um pouco da nossa cultura popul
 ar que tá abriga da na casa do povo alagoano. Vem pra cá e traga quem vo
 cê quiser: filhos\, sobrinhos\, amigos e vizinhos!
LAST-MODIFIED:20190320T193031Z
URL:https://ufal.br/ufal/extensao/cultura/2019/museu-theo-brandao-abrira-t
 ambem-nos-fins-de-semana
END:VEVENT
BEGIN:VTIMEZONE
TZID:America/Maceio
X-LIC-LOCATION:America/Maceio
BEGIN:STANDARD
DTSTART:20020216T230000
TZNAME:-03
TZOFFSETFROM:-0200
TZOFFSETTO:-0300
END:STANDARD
END:VTIMEZONE
END:VCALENDAR
