BEGIN:VCALENDAR
VERSION:2.0
PRODID:-//Plone.org//NONSGML plone.app.event//EN
X-WR-TIMEZONE:America/Maceio
BEGIN:VEVENT
SUMMARY:Maglione Santos vai comandar mais uma master class de bateria
DTSTART;TZID=America/Maceio:20190417T110000
DTEND;TZID=America/Maceio:20190417T120000
DTSTAMP:20260420T044106Z
UID:9b884f4d7e5547f9981100d911c566d4@principal.ufal.br
CREATED:20190416T185935Z
DESCRIPTION:Considerado um dos grandes nomes atuais da bateria em Alagoas\
 , Maglione Santos é o convidado do Núcleo de Percussão (NUP) da Univers
 idade Federal de Alagoas\, na programação do projeto Encontro com os mes
 tres alagoanos da percussão. Nesta quarta-feira\, 17 de abril\, ele vai c
 omandar a master class A bateria a favor da música. A entrada é gratuita
  e quem quiser pode participar. Será no Espaço Cultural da Ufal\, na Pra
 ça Visconde de Sinimbu\, às 11h.\nMuito requisitado por músicos\, Magli
 one é uma pessoa muito querida e tem formado a nova geração de baterist
 as em Maceió. “Ele tem uma escola de bateria que se chama Toca do Mago 
 e ficou bastante conhecido por ter substituído\, em alguns shows\, Carlos
  Bala [baterista do cantor e compositor alagoano Djavan]. Nosso mago é o 
 próximo Carlos Bala aqui da cidade”\, contou Augusto Moralez\, coordena
 dor do NUP e professor da Escola Técnica de Artes da Ufal.
LAST-MODIFIED:20190416T185943Z
URL:https://ufal.br/ufal/extensao/cultura/2019/maglione-santos-vai-comanda
 r-mais-uma-master-class-de-bateria
END:VEVENT
BEGIN:VTIMEZONE
TZID:America/Maceio
X-LIC-LOCATION:America/Maceio
BEGIN:STANDARD
DTSTART:20020216T230000
TZNAME:-03
TZOFFSETFROM:-0200
TZOFFSETTO:-0300
END:STANDARD
END:VTIMEZONE
END:VCALENDAR
