BEGIN:VCALENDAR
VERSION:2.0
PRODID:-//Plone.org//NONSGML plone.app.event//EN
X-WR-TIMEZONE:America/Maceio
BEGIN:VEVENT
SUMMARY:Léo Costa fará master class de bateria nesta quarta
DTSTART;TZID=America/Maceio:20190403T110000
DTEND;TZID=America/Maceio:20190403T120000
DTSTAMP:20260420T041330Z
UID:b490dea1f98b47b2a3ab6537f2868415@principal.ufal.br
CREATED:20190402T211434Z
DESCRIPTION:O Núcleo de Percussão (NUP) da Universidade Federal de Alago
 as promove\, nesta quarta-feira (3)\, mais uma master class dentro da prog
 ramação do Encontro com os mestres alagoanos da percussão. Desta vez\, 
 o artista convidado é Léo Costa\, formado pela Escola Técnica de Artes 
 (ETA) da Ufal. Será às 11h\, no Espaço Cultural\, na Praça Visconde de
  Sinimbu. A entrada é gratuita.
LAST-MODIFIED:20190402T211443Z
URL:https://ufal.br/ufal/extensao/cultura/2019/leo-costa-fara-master-class
 -de-bateria-nesta-quarta
END:VEVENT
BEGIN:VTIMEZONE
TZID:America/Maceio
X-LIC-LOCATION:America/Maceio
BEGIN:STANDARD
DTSTART:20020216T230000
TZNAME:-03
TZOFFSETFROM:-0200
TZOFFSETTO:-0300
END:STANDARD
END:VTIMEZONE
END:VCALENDAR
