BEGIN:VCALENDAR
VERSION:2.0
PRODID:-//Plone.org//NONSGML plone.app.event//EN
X-WR-TIMEZONE:America/Maceio
BEGIN:VEVENT
SUMMARY:Grupo Percussão da Ufal se apresenta no projeto Sesc Partituras
DTSTART;TZID=America/Maceio:20190413T160000
DTEND;TZID=America/Maceio:20190413T180000
DTSTAMP:20260420T120828Z
UID:59436c142f50445bba1c4358f44c0d20@principal.ufal.br
CREATED:20190405T181241Z
DESCRIPTION:O Percufal - Grupo de Percussão da Escola Técnica de Artes d
 a Universidade Federal de Alagoas - começa as comemorações de seus 5 an
 os de criação e a primeira apresentação será dentro do projeto Sesc P
 artituras\, no sábado (13)\, às 17h\, com abertura do percussionista Aug
 usto Moralez\, tocando músicas para vibrafone solo\, às 16h. O concerto 
 será no Teatro Jofre Soares\, na unidade Sesc Centro\, em Maceió. A entr
 ada é gratuita.
LAST-MODIFIED:20190405T181246Z
URL:https://ufal.br/ufal/extensao/cultura/2019/grupo-percussao-da-ufal-se-
 apresenta-no-projeto-sesc-partituras
END:VEVENT
BEGIN:VTIMEZONE
TZID:America/Maceio
X-LIC-LOCATION:America/Maceio
BEGIN:STANDARD
DTSTART:20020216T230000
TZNAME:-03
TZOFFSETFROM:-0200
TZOFFSETTO:-0300
END:STANDARD
END:VTIMEZONE
END:VCALENDAR
