BEGIN:VCALENDAR
VERSION:2.0
PRODID:-//Plone.org//NONSGML plone.app.event//EN
X-WR-TIMEZONE:America/Maceio
BEGIN:VEVENT
SUMMARY:Grupo Percufal e Augusto Moralez fazem concerto nesta quinta
DTSTART;TZID=America/Maceio:20190418T150000
DTEND;TZID=America/Maceio:20190418T160000
DTSTAMP:20260420T120828Z
UID:d23360ebcd1541fba878a32478536006@principal.ufal.br
CREATED:20190417T195043Z
DESCRIPTION:Nesta quinta-feira\, 18 de abril\, o Grupo Percufal e Augusto 
 Moralez farão mais um concerto de percussão. Será às 15h\, na sala do 
 NUP\, aqui no nosso Espaço Cultural. A entrada é gratuita! É só chegar
  e curtir!
LAST-MODIFIED:20190417T195050Z
URL:https://ufal.br/ufal/extensao/cultura/2019/grupo-percufal-e-augusto-mo
 ralez-fazem-concerto-nesta-quinta
END:VEVENT
BEGIN:VTIMEZONE
TZID:America/Maceio
X-LIC-LOCATION:America/Maceio
BEGIN:STANDARD
DTSTART:20020216T230000
TZNAME:-03
TZOFFSETFROM:-0200
TZOFFSETTO:-0300
END:STANDARD
END:VTIMEZONE
END:VCALENDAR
