BEGIN:VCALENDAR
VERSION:2.0
PRODID:-//Plone.org//NONSGML plone.app.event//EN
X-WR-TIMEZONE:America/Maceio
BEGIN:VEVENT
SUMMARY:Grupo de Saxofone se apresenta na Biblioteca Pública
DTSTART;TZID=America/Maceio:20190531T140000
DTEND;TZID=America/Maceio:20190531T150000
DTSTAMP:20260420T035003Z
UID:cef7a1e615bc48d3bc35450e8aa2546b@principal.ufal.br
CREATED:20190522T210213Z
DESCRIPTION:Na sexta-feira\, 31\, último dia de maio\, quem estiver no Ce
 ntro de cidade e gostar de boa música\, pode aproveitar essa dica: nosso 
 Grupo de Saxofone vai encantar os visitantes da Biblioteca Estadual Gracil
 iano Ramos. \nO grupo foi convidado pela terceira vez para participar do p
 rojeto Sexta Trovadora e vai se apresentar às 14h.\nA Biblioteca pública
  fica na Praça Pedro II\, próximo à Assembleia Legislativa\, Centro de 
 Maceió.
LAST-MODIFIED:20190522T210253Z
URL:https://ufal.br/ufal/extensao/cultura/2019/grupo-de-saxofone-se-aprese
 nta-na-biblioteca-publica
END:VEVENT
BEGIN:VTIMEZONE
TZID:America/Maceio
X-LIC-LOCATION:America/Maceio
BEGIN:STANDARD
DTSTART:20020216T230000
TZNAME:-03
TZOFFSETFROM:-0200
TZOFFSETTO:-0300
END:STANDARD
END:VTIMEZONE
END:VCALENDAR
