BEGIN:VCALENDAR
VERSION:2.0
PRODID:-//Plone.org//NONSGML plone.app.event//EN
X-WR-TIMEZONE:America/Maceio
BEGIN:VEVENT
SUMMARY:ETA promove quatro cursos de extensão
DTSTART;TZID=America/Maceio:20190211T150000
DTEND;TZID=America/Maceio:20190211T160000
DTSTAMP:20260420T074326Z
UID:9cd0eaa056244326987096ffbed4e113@principal.ufal.br
CONTACT:https://ufal.br/ufal/noticias/2019/1/eta-abre-inscricoes-para-quat
 ro-cursos-de-extensao?fbclid=IwAR1O0yNdtEel9HFDdyOSkmb5-bxeGaACYfOhRk0rawY
 jbDj7GAf4tRCgzYU
CREATED:20190204T163512Z
DESCRIPTION:Se você quer ver a criançada fazendo arte\, então chegou a 
 hora! Aproveite a oportunidade e inscreva seu filho ou sua filha nos curso
 s de extensão da Escola Técnica de Artes (ETA) da Universidade Federal d
 e Alagoas (Ufal)\, até 8 de fevereiro. São quatro cursos totalmente grat
 uitos: musicalização e canto coral infantil\; musicalização infantil e
  flauta doce\; iniciação ao violoncelo para crianças\; e curso básico 
 em violoncelo. As aulas começam dia 11 de fevereiro.
LAST-MODIFIED:20190204T163518Z
URL:https://ufal.br/ufal/extensao/cultura/2019/eta-promove-quatro-cursos-d
 e-extensao
END:VEVENT
BEGIN:VTIMEZONE
TZID:America/Maceio
X-LIC-LOCATION:America/Maceio
BEGIN:STANDARD
DTSTART:20020216T230000
TZNAME:-03
TZOFFSETFROM:-0200
TZOFFSETTO:-0300
END:STANDARD
END:VTIMEZONE
END:VCALENDAR
