BEGIN:VCALENDAR
VERSION:2.0
PRODID:-//Plone.org//NONSGML plone.app.event//EN
X-WR-TIMEZONE:America/Maceio
BEGIN:VEVENT
SUMMARY:Espetáculo Marginália será apresentado dias 14 e 15 no Teatro D
 eodoro
DTSTART;TZID=America/Maceio:20190514T203000
DTEND;TZID=America/Maceio:20190515T213000
DTSTAMP:20260420T033231Z
UID:34885212eb5f411ba86b345ad276c14f@principal.ufal.br
CONTACT:https://ufal.br/ufal/noticias/2019/5/marginalia-sera-apresentado-d
 ias-14-e-15-no-teatro-deodoro
CREATED:20190514T180705Z
DESCRIPTION:O curso de Dança da Escola Técnica de Artes da Ufal apresent
 a o novo trabalho dos alunos: Marginália. O espetáculo acontece nos dias
  14 e 15 de maio\, no Teatro Deodoro\, às 20h30. A entrada é franca e os
  interessados podem pegar os ingressos uma hora antes de começar.\nFazem 
 parte da montagem dezessete alunos do Módulo 4 do curso de Dança\, com o
 rientação do professor Thiago Sampaio e coorientação da professora Val
 éria Nunes.
LAST-MODIFIED:20190514T180740Z
URL:https://ufal.br/ufal/extensao/cultura/2019/espetaculo-marginalia-sera-
 apresentado-dias-14-e-15-no-teatro-deodoro
END:VEVENT
BEGIN:VTIMEZONE
TZID:America/Maceio
X-LIC-LOCATION:America/Maceio
BEGIN:STANDARD
DTSTART:20020216T230000
TZNAME:-03
TZOFFSETFROM:-0200
TZOFFSETTO:-0300
END:STANDARD
END:VTIMEZONE
END:VCALENDAR
