BEGIN:VCALENDAR
VERSION:2.0
PRODID:-//Plone.org//NONSGML plone.app.event//EN
X-WR-TIMEZONE:America/Maceio
BEGIN:VEVENT
SUMMARY:Espetáculo faz tributo ao poeta Jorge de Lima
DTSTART;TZID=America/Maceio:20190215T193000
DTEND;TZID=America/Maceio:20190215T203000
DTSTAMP:20260420T065718Z
UID:798184d61d9d470f8a8486d390a2c45e@principal.ufal.br
CONTACT:https://ufal.br/ufal/noticias/2019/2/espetaculo-faz-tributo-ao-poe
 ta-jorge-de-lima
CREATED:20190214T151015Z
DESCRIPTION:Os amantes da poesia terão a chance de assistir ao espetácul
 o gratuito Cartografias poéticas - tributo a Jorge de Lima\, que estreia 
 nesta sexta-feira\, 15 de fevereiro\, às 19h30\, no anexo 2 da Escola Té
 cnica de Artes (ETA) da Universidade Federal de Alagoas\, em frente à Pra
 ça Visconde de Sinimbu. A direção geral é de Carla Antonello\, numa pr
 odução do Laboratório de Estudo e Pesquisa de Processos de Encenação 
 (Leppe).
LAST-MODIFIED:20190214T151053Z
URL:https://ufal.br/ufal/extensao/cultura/2019/espetaculo-faz-tributo-ao-p
 oeta-jorge-de-lima
END:VEVENT
BEGIN:VTIMEZONE
TZID:America/Maceio
X-LIC-LOCATION:America/Maceio
BEGIN:STANDARD
DTSTART:20020216T230000
TZNAME:-03
TZOFFSETFROM:-0200
TZOFFSETTO:-0300
END:STANDARD
END:VTIMEZONE
END:VCALENDAR
