BEGIN:VCALENDAR
VERSION:2.0
PRODID:-//Plone.org//NONSGML plone.app.event//EN
X-WR-TIMEZONE:America/Maceio
BEGIN:VEVENT
SUMMARY:Espaço Cultural recebe espetáculo e oficina de dança flamenca
DTSTART;TZID=America/Maceio:20190410T193000
DTEND;TZID=America/Maceio:20190410T210000
DTSTAMP:20260420T075833Z
UID:f76b66d4af514a05ae6eba99ca75aa77@principal.ufal.br
CREATED:20190404T180307Z
DESCRIPTION:Com incentivo e apoio da Escola Técnica de Artes (ETA) da Uni
 versidade Federal de Alagoas\, será apresentado espetáculo de dança fla
 menca\, na Sala Preta do Espaço Cultural\, no próximo 10 de abril\, às 
 19h30. A entrada é gratuita e a companhia responsável pela atração é 
 o Studio Bella Danza\, dirigido pela dançarina e aluna do curso técnico 
 de Dança da ETA\, Cybelle Barros. Logo após o show\, haverá uma oficina
  para quem quiser entender e aprender um pouco do universo flamenco.
LAST-MODIFIED:20190404T180349Z
URL:https://ufal.br/ufal/extensao/cultura/2019/espaco-cultural-recebe-espe
 taculo-e-oficina-de-danca-flamenca-1
END:VEVENT
BEGIN:VTIMEZONE
TZID:America/Maceio
X-LIC-LOCATION:America/Maceio
BEGIN:STANDARD
DTSTART:20020216T230000
TZNAME:-03
TZOFFSETFROM:-0200
TZOFFSETTO:-0300
END:STANDARD
END:VTIMEZONE
END:VCALENDAR
