BEGIN:VCALENDAR
VERSION:2.0
PRODID:-//Plone.org//NONSGML plone.app.event//EN
X-WR-TIMEZONE:America/Maceio
BEGIN:VEVENT
SUMMARY:Escola Técnica de Ates apresenta recitais do curso Instrumento Mu
 sical
DTSTART;TZID=America/Maceio:20190416T150000
DTEND;TZID=America/Maceio:20190418T170500
DTSTAMP:20260420T134748Z
UID:64164ecc27a6465dbe728ddcb06473a4@principal.ufal.br
CREATED:20190405T181045Z
DESCRIPTION:Para marcar o encerramento do semestre letivo\, a Escola Técn
 ica de Artes da Universidade Federal de Alagoas promove recitais de alunos
  do curso Instrumento Musical - piano\, violino\, viola\, violoncelo\, sax
 ofone\, clarineta\, percussão e canto. O evento é aberto e acontece nos 
 dias 16\, 17 e 18 de abril\, a partir das 15h\, no Espaço Cultural da Ufa
 l\, na Praça Visconde de Sinimbu.  \nAo todo serão sete recitais com a p
 articipação das turmas de canto\, de prática de conjunto\, clarineta\, 
 piano\, viola e percussão. A ETA vai apresentar o resultado do trabalho r
 ealizado com os alunos durante esse semestre que está se encerrando. Qual
 quer pessoa pode assistir e a apresentação é gratuita. É só chegar no
  horário e entrar na sala.
LAST-MODIFIED:20190405T181059Z
URL:https://ufal.br/ufal/extensao/cultura/2019/escola-tecnica-de-ates-apre
 senta-recitais-do-curso-instrumento-musical
END:VEVENT
BEGIN:VTIMEZONE
TZID:America/Maceio
X-LIC-LOCATION:America/Maceio
BEGIN:STANDARD
DTSTART:20020216T230000
TZNAME:-03
TZOFFSETFROM:-0200
TZOFFSETTO:-0300
END:STANDARD
END:VTIMEZONE
END:VCALENDAR
