BEGIN:VCALENDAR
VERSION:2.0
PRODID:-//Plone.org//NONSGML plone.app.event//EN
X-WR-TIMEZONE:America/Maceio
BEGIN:VEVENT
SUMMARY:Escola Técnica de Artes oferece curso de extensão em saxofone ou
  clarineta
DTSTART;TZID=America/Maceio:20190212T090000
DTEND;TZID=America/Maceio:20190618T110000
DTSTAMP:20260420T132538Z
UID:0f6fcda0e9f64a239fc7f2c372815845@principal.ufal.br
CONTACT:https://ufal.br/ufal/noticias/2019/2/escola-tecnica-de-artes-ofere
 ce-curso-de-extensao-de-saxofone-ou-clarineta
CREATED:20190206T181434Z
DESCRIPTION:Mais uma ação de extensão da Escola Técnica de Artes da Un
 iversidade Federal de Alagoas pretende aproximar jovens\, com idade a part
 ir dos 14 anos\, de instrumentos de sopro. Estamos falando do curso em Sax
 ofone ou Clarienta\, que oferece 15 vagas e as inscrições gratuitas vão
  até 10 de fevereiro\, por meio de formulário eletrônico.
LAST-MODIFIED:20190206T181443Z
URL:https://ufal.br/ufal/extensao/cultura/2019/escola-tecnica-de-artes-ofe
 rece-curso-de-extensao-em-saxofone-ou-clarineta
END:VEVENT
BEGIN:VTIMEZONE
TZID:America/Maceio
X-LIC-LOCATION:America/Maceio
BEGIN:STANDARD
DTSTART:20020216T230000
TZNAME:-03
TZOFFSETFROM:-0200
TZOFFSETTO:-0300
END:STANDARD
END:VTIMEZONE
END:VCALENDAR
