BEGIN:VCALENDAR
VERSION:2.0
PRODID:-//Plone.org//NONSGML plone.app.event//EN
X-WR-TIMEZONE:America/Maceio
BEGIN:VEVENT
SUMMARY:Corufal faz tributo a Milton Nascimento na próxima quarta
DTSTART;TZID=America/Maceio:20190529T200000
DTEND;TZID=America/Maceio:20190529T210000
DTSTAMP:20260420T115055Z
UID:cf7691237c0a49b78e89e13d1005d972@principal.ufal.br
CONTACT:https://ufal.br/ufal/noticias/2019/5/corufal-abre-temporada-do-qua
 rta-sinfonica-com-tributo-a-milton-nascimento
CREATED:20190527T210311Z
DESCRIPTION:Com repertório baseado na obra de um dos maiores ícones da m
 úsica popular brasileira\, o Corufal\, equipamento cultural da Universida
 de Federal de Alagoas\, vai abrir a temporada do projeto Quarta Sinfônica
 \, próximo dia 29\, às 20h\, no Teatro Deodoro. No concerto Certas Canç
 ões\, Milton Nascimento será a grande estrela homenageada da noite.
LAST-MODIFIED:20190527T210324Z
URL:https://ufal.br/ufal/extensao/cultura/2019/corufal-faz-tributo-a-milto
 n-nascimento-na-proxima-quarta
END:VEVENT
BEGIN:VTIMEZONE
TZID:America/Maceio
X-LIC-LOCATION:America/Maceio
BEGIN:STANDARD
DTSTART:20020216T230000
TZNAME:-03
TZOFFSETFROM:-0200
TZOFFSETTO:-0300
END:STANDARD
END:VTIMEZONE
END:VCALENDAR
