BEGIN:VCALENDAR
VERSION:2.0
PRODID:-//Plone.org//NONSGML plone.app.event//EN
X-WR-TIMEZONE:America/Maceio
BEGIN:VEVENT
SUMMARY:Corpo Cênico volta ao palco em projeto do Sesc
DTSTART;TZID=America/Maceio:20190518T193000
DTEND;TZID=America/Maceio:20190518T203000
DTSTAMP:20260420T023601Z
UID:66e1cb21a7ec47d4b013ceb218a18a50@principal.ufal.br
CREATED:20190509T193323Z
DESCRIPTION:O Corpo Cênico Universidade Federal de Alagoas estará de vol
 ta ao palco no próximo dia 18\, às 19h30\, com o espetáculo Obscuriceni
 dades. O equipamento cultural foi convidado pelo Sesc para se apresentar\,
  como grupo voluntário\, no Aldeia Palco Giratório 2019\, que acontece d
 e 18 a 26 de maio. A apresentação será às 19h\, no Teatro Sala Preta\,
  no Espaço Cultural da Ufal\, na Praça Visconde de Sinimbu. A entrada é
  gratuita.
LAST-MODIFIED:20190509T201640Z
URL:https://ufal.br/ufal/extensao/cultura/2019/corpo-cenico-volta-ao-palco
 -em-projeto-do-sesc
END:VEVENT
BEGIN:VTIMEZONE
TZID:America/Maceio
X-LIC-LOCATION:America/Maceio
BEGIN:STANDARD
DTSTART:20020216T230000
TZNAME:-03
TZOFFSETFROM:-0200
TZOFFSETTO:-0300
END:STANDARD
END:VTIMEZONE
END:VCALENDAR
