BEGIN:VCALENDAR
VERSION:2.0
PRODID:-//Plone.org//NONSGML plone.app.event//EN
X-WR-TIMEZONE:America/Maceio
BEGIN:VEVENT
SUMMARY:Corpo Cênico estreia novo espetáculo ‘Obscuricenidades’
DTSTART;TZID=America/Maceio:20190322T190000
DTEND;TZID=America/Maceio:20190322T200000
DTSTAMP:20260420T233459Z
UID:d9c3f7a7d96c44c48ba7a7ae5d238636@principal.ufal.br
CONTACT:https://ufal.br/ufal/noticias/2019/3/corpo-cenico-estreia-novo-esp
 etaculo-2018obscuricenidades2019
CREATED:20190312T195955Z
DESCRIPTION:Obscuricenidades é a nova montagem do Corpo Cênico\, equipam
 ento Cultural da Universidade Federal de Alagoas\, que estreia no próximo
  22 de março\, às 19h\, no Teatro Sala Preta\, no Espaço Cultural da Uf
 al\, na Praça Visconde de Sinimbu. A entrada é gratuita! Esse espetácul
 o é uma criação colaborativa\, realizada por alunos do curso de licenci
 atura em Dança e participantes do Corpo Cênico.
LAST-MODIFIED:20190312T200002Z
URL:https://ufal.br/ufal/extensao/cultura/2019/corpo-cenico-estreia-novo-e
 spetaculo-2018obscuricenidades2019
END:VEVENT
BEGIN:VTIMEZONE
TZID:America/Maceio
X-LIC-LOCATION:America/Maceio
BEGIN:STANDARD
DTSTART:20020216T230000
TZNAME:-03
TZOFFSETFROM:-0200
TZOFFSETTO:-0300
END:STANDARD
END:VTIMEZONE
END:VCALENDAR
