BEGIN:VCALENDAR
VERSION:2.0
PRODID:-//Plone.org//NONSGML plone.app.event//EN
X-WR-TIMEZONE:America/Maceio
BEGIN:VEVENT
SUMMARY:Corpo Cênico e Brincantuar promovem Roda de Conferências
DTSTART;TZID=America/Maceio:20190402T140000
DTEND;TZID=America/Maceio:20190405T190000
DTSTAMP:20260420T145748Z
UID:1d808d3efccf4cd89c08ff679f4ec4d1@principal.ufal.br
CONTACT:https://ufal.br/ufal/noticias/2019/4/corpo-cenico-e-brincantuar-pr
 omovem-1a-roda-de-conferencias-de-artes-cenicas
CREATED:20190401T192845Z
DESCRIPTION:Da parceria entre o Corpo Cênico\, equipamento cultural da Un
 iversidade Federal de Alagoas\, e o Brincantuar: artífices cênicos…\, 
 grupo de pesquisa do CNPq\, surge a 1ª Roda de Conferência de Artes Cên
 icas. Essa primeira edição acontece de 2 a 5 de abril\, todas as tardes\
 , no Espaço Cultural da Ufal\, na Praça Visconde de Sinimbu\, e terá co
 mo convidado especial Alexandre Mate\, professor da Universidade de São P
 aulo (Unesp).
LAST-MODIFIED:20190401T192854Z
URL:https://ufal.br/ufal/extensao/cultura/2019/corpo-cenico-e-brincantuar-
 promovem-roda-de-conferencias
END:VEVENT
BEGIN:VTIMEZONE
TZID:America/Maceio
X-LIC-LOCATION:America/Maceio
BEGIN:STANDARD
DTSTART:20020216T230000
TZNAME:-03
TZOFFSETFROM:-0200
TZOFFSETTO:-0300
END:STANDARD
END:VTIMEZONE
END:VCALENDAR
