BEGIN:VCALENDAR
VERSION:2.0
PRODID:-//Plone.org//NONSGML plone.app.event//EN
X-WR-TIMEZONE:America/Maceio
BEGIN:VEVENT
SUMMARY:Corpo Cênico apresenta dois espetáculos nesta sexta-feira
DTSTART;TZID=America/Maceio:20190405T180000
DTEND;TZID=America/Maceio:20190405T200000
DTSTAMP:20260420T122731Z
UID:215f9c8412d5430fa6e592c3fa9f1ea0@principal.ufal.br
CONTACT:https://ufal.br/ufal/noticias/2019/4/corpo-cenico-apresenta-dois-e
 spetaculos-nesta-sexta-feira
CREATED:20190404T154743Z
DESCRIPTION:Nesta sexta-feira (5)\, o Corpo Cênico da Universidade Federa
 l de Alagoas está com dois espetáculos em cartaz. O primeiro\, Igreja Di
 alética Brechtiana - O Acordo\, com direção de Marcelo Gianini\, e o se
 gundo\, Obscuricenidades\, com orientação de Kamilla Mesquita. As aprese
 ntações são gratuitas e vão acontecer na sala 11 do Espaço Cultural d
 a Ufal\, na Praça Visconde de Sinimbu\, dentro da programação da 1ª Ro
 da de Conferências em Artes Cênicas\, promovida pelo Corpo Cênico e pel
 o projeto Brincantuar.
LAST-MODIFIED:20190404T154811Z
URL:https://ufal.br/ufal/extensao/cultura/2019/corpo-cenico-apresenta-dois
 -espetaculos-nesta-sexta-feira
END:VEVENT
BEGIN:VTIMEZONE
TZID:America/Maceio
X-LIC-LOCATION:America/Maceio
BEGIN:STANDARD
DTSTART:20020216T230000
TZNAME:-03
TZOFFSETFROM:-0200
TZOFFSETTO:-0300
END:STANDARD
END:VTIMEZONE
END:VCALENDAR
