BEGIN:VCALENDAR
VERSION:2.0
PRODID:-//Plone.org//NONSGML plone.app.event//EN
X-WR-TIMEZONE:America/Maceio
BEGIN:VEVENT
SUMMARY:Cineclube Elinaldo Barros apresenta Brecht e o cinema
DTSTART;TZID=America/Maceio:20190228T163000
DTEND;TZID=America/Maceio:20190228T173000
DTSTAMP:20260420T023914Z
UID:0591363a1dcd4dd1b85917f63cb6f850@principal.ufal.br
CONTACT:https://ufal.br/ufal/noticias/2019/1/cineclube-elinaldo-barros-apr
 esenta-brecht-e-o-cinema
CREATED:20190204T163010Z
DESCRIPTION:O segundo Ciclo Teatro e Cinema traz nova rodada de filmes\, d
 esta vez abordando o dramaturgo\, poeta e encenador alemão do século 20\
 , Bertolt Brecht. Trata-se de projeto de extensão realizado pelo Núcleo 
 de Estudos e Pesquisas das Expressões Dramáticas (Neped)\, por meio do C
 ineclube Elinaldo Barros\, com apoio do curso de Teatro e Pró-reitoria de
  Extensão da Universidade Federal de Alagoas. O evento segue nos dias 28 
 de fevereiro e 21 de março\, na sala 12 do Espaço Cultural da Ufal\, às
  16h30.
LAST-MODIFIED:20190204T163018Z
URL:https://ufal.br/ufal/extensao/cultura/2019/cineclube-elinaldo-barros-a
 presenta-brecht-e-o-cinema
END:VEVENT
BEGIN:VTIMEZONE
TZID:America/Maceio
X-LIC-LOCATION:America/Maceio
BEGIN:STANDARD
DTSTART:20020216T230000
TZNAME:-03
TZOFFSETFROM:-0200
TZOFFSETTO:-0300
END:STANDARD
END:VTIMEZONE
END:VCALENDAR
