BEGIN:VCALENDAR
VERSION:2.0
PRODID:-//Plone.org//NONSGML plone.app.event//EN
X-WR-TIMEZONE:America/Maceio
BEGIN:VEVENT
SUMMARY:Bloco Filhinhos da Mamãe promove baile de carnaval
DTSTART;TZID=America/Maceio:20190222T200000
DTEND;TZID=America/Maceio:20190222T210000
DTSTAMP:20260419T122604Z
UID:72f0eb9634214d939c4ffe185d0e360d@principal.ufal.br
CREATED:20190221T175558Z
DESCRIPTION:Nesta sexta-feira\, dia 22 de fevereiro\, o Filhinhos da Mamã
 e terá o grande baile carnavalesco\, no pátio do Museu Théo Brandão\, 
 com animação\, brincadeiras e fantasias\, a partir das 20h. Além de mui
 to frevo\, também haverá concurso de Fantasias Folião Pedro Tarzã\, Pa
 pel no varal erótico\, entrega do Prêmio Maracá de Lata e da Comenda Ca
 rnavalesca Confete de Cetim e Meia noite de luzes e papoucos. A festa est
 á garantida com apresentação do Maracatu e do Boi Lacrau\, Balé Folcl
 órico de Alagoas - Grupo Transart e a Orquestra de Frevo Santa Cecília.
LAST-MODIFIED:20190221T175605Z
URL:https://ufal.br/ufal/extensao/cultura/2019/bloco-filhinhos-da-mamae-pr
 omove-baile-de-carnaval
END:VEVENT
BEGIN:VTIMEZONE
TZID:America/Maceio
X-LIC-LOCATION:America/Maceio
BEGIN:STANDARD
DTSTART:20020216T230000
TZNAME:-03
TZOFFSETFROM:-0200
TZOFFSETTO:-0300
END:STANDARD
END:VTIMEZONE
END:VCALENDAR
