BEGIN:VCALENDAR
VERSION:2.0
PRODID:-//Plone.org//NONSGML plone.app.event//EN
X-WR-TIMEZONE:America/Maceio
BEGIN:VEVENT
SUMMARY:Baterista paraibano dará master class no Espaço Cultural da Ufal
DTSTART;TZID=America/Maceio:20190323T140000
DTEND;TZID=America/Maceio:20190323T150000
DTSTAMP:20260420T075409Z
UID:e918e9f6fc864eef8d2b3c6888dda80c@principal.ufal.br
CREATED:20190319T185211Z
DESCRIPTION:Próximo sábado (23)\, o Núcleo de Percussão da Universidad
 e Federal de Alagoas promove mais uma edição do projeto Encontro com os 
 mestres alagoanos da percussão. Desta vez\, o convidado é o paraibano Vi
 tor Alves que vem a Maceió para dar uma master class de bateria\, com des
 taque para bateria no metal pesado e sobre o uso do pedal duplo\, sua espe
 cialidade. O evento é gratuito e começa às 14h\, na sala do NUP\, no Es
 paço Cultural da Ufal\, na Praça Visconde de Sinimbu.
LAST-MODIFIED:20190319T185224Z
URL:https://ufal.br/ufal/extensao/cultura/2019/baterista-paraibano-dara-ma
 ster-class-no-espaco-cultural-da-ufal
END:VEVENT
BEGIN:VTIMEZONE
TZID:America/Maceio
X-LIC-LOCATION:America/Maceio
BEGIN:STANDARD
DTSTART:20020216T230000
TZNAME:-03
TZOFFSETFROM:-0200
TZOFFSETTO:-0300
END:STANDARD
END:VTIMEZONE
END:VCALENDAR
