BEGIN:VCALENDAR
VERSION:2.0
PRODID:-//Plone.org//NONSGML plone.app.event//EN
X-WR-TIMEZONE:America/Maceio
BEGIN:VEVENT
SUMMARY:Alunos da Escola Técnica de Artes invadem a cidade com duas encen
 ações
DTSTART;TZID=America/Maceio:20190410T093000
DTEND;TZID=America/Maceio:20190414T110000
DTSTAMP:20260422T072445Z
UID:f6d6137866054d74896cc5acfa45b927@principal.ufal.br
CREATED:20190407T223325Z
DESCRIPTION:Teatro invadindo a cidade e Cortejo mormaço são intervençõ
 es cênicas que alunos da disciplina Teatro de Rua\, do Módulo 2 do curso
  técnico em Arte Dramática da Escola Técnica de Artes da Universidade F
 ederal de Alagoas\, vão apresentar em vários cantos da capital. Será no
 s dias 10\,  11\, 13 e 14 de abril. As cenas foram escritas pelo mestre Ar
 iano Suassuna e há um texto criado coletivamente pelo Grupo Galpão. \n\n
 Teatro invadindo a cidade - Dia 10 - às 20h - no Cepa - Centro Educaciona
 l de Pesquisa Aplicada / Dia 13 - às 9h30 - na Rua do Comércio / Histór
 ias: A passagem de Zumbi\, A princesa Jericoacoara [recolhidas por Silvana
  Salermo] / Cena: Rico Avarento\, de Ariano Suassuna\n \nCortejo mormaço 
 - Dia 11 - às 20h - no Cepa/ Dia 13 - às 10h - na Rua do Comércio / Dia
  14 - às 11h - Rua Fechada\, na Ponta Verde / História: O governador do 
 Sertão\, A princesa de Jericoacoara [recolhidas por Silvana Salermo] / Ce
 nas: Torturas de um coração\, de Ariano Suassuna\; e A comédia da espos
 a muda\, do Grupo Galpão
LAST-MODIFIED:20190407T223650Z
URL:https://ufal.br/ufal/extensao/cultura/2019/alunos-da-escola-tecnica-de
 -artes-invadem-a-cidade-com-duas-encenacoes
END:VEVENT
BEGIN:VTIMEZONE
TZID:America/Maceio
X-LIC-LOCATION:America/Maceio
BEGIN:STANDARD
DTSTART:20020216T230000
TZNAME:-03
TZOFFSETFROM:-0200
TZOFFSETTO:-0300
END:STANDARD
END:VTIMEZONE
END:VCALENDAR
