BEGIN:VCALENDAR
VERSION:2.0
PRODID:-//Plone.org//NONSGML plone.app.event//EN
X-WR-TIMEZONE:America/Maceio
BEGIN:VEVENT
SUMMARY:26° Fim de Semana no Museu
DTSTART;TZID=America/Maceio:20190518T090000
DTEND;TZID=America/Maceio:20190519T170000
DTSTAMP:20260419T125950Z
UID:b268e8386cdb48c3bb5280f965768949@principal.ufal.br
CREATED:20190509T201439Z
DESCRIPTION:Nos próximos dias 18 e 19\, acontece o 26º FIM DE SEMANA NO 
 MUSEU. Mais uma ação do nosso Museu de História Natural. A programaçã
 o nos dois dias começa às 9h e termina às 17h. \nNo sábado\, teremos o
 ficinas de pintura\, de cerâmica\,de pilões\,de  jogo da memória e de l
 ança e encerra com apresentação cultural. No domingo\, teremos Oficina 
 de Mandala\, Mostra de Pilões\, de Quebra-cabeça e de Jogo da Memória\,
  além de contação de histórias e oficina de bonecas.\nNesta edição t
 ambém teremos o arqueobingo e o encerramento será com apresentação cul
 tural.\nSó lembrando\, é tudo gratuito e as oficinas terão número limi
 tado de inscritos: no máximo 15 pessoas. Mais informações pelo e-mail m
 hnufal@gmail.com.
LAST-MODIFIED:20190509T201445Z
URL:https://ufal.br/ufal/extensao/cultura/2019/26deg-fim-de-semana-no-muse
 u
END:VEVENT
BEGIN:VTIMEZONE
TZID:America/Maceio
X-LIC-LOCATION:America/Maceio
BEGIN:STANDARD
DTSTART:20020216T230000
TZNAME:-03
TZOFFSETFROM:-0200
TZOFFSETTO:-0300
END:STANDARD
END:VTIMEZONE
END:VCALENDAR
