BEGIN:VCALENDAR
VERSION:2.0
PRODID:-//Plone.org//NONSGML plone.app.event//EN
X-WR-TIMEZONE:America/Maceio
BEGIN:VEVENT
SUMMARY:24º Fim de Semana no Museu
DTSTART;TZID=America/Maceio:20190316T200000
DTEND;TZID=America/Maceio:20190317T170000
DTSTAMP:20260419T124220Z
UID:b0bdcc6a0bcf43f4900ac789773e63f6@principal.ufal.br
CONTACT:https://ufal.br/ufal/noticias/2019/3/paleontologia-e-geologia-inva
 dem-24o-fim-de-semana-no-museu
CREATED:20190313T183252Z
DESCRIPTION:Os setores de Geologia e Paleontologia do Museu de História N
 atural da Ufal convidam o público a entrar no mundo das cavernas\, fósse
 is e minerais na 24ª edição do Fim de Semana no Museu\, que acontece ne
 ste sábado (16) e domingo (17)\, na Sede do MHN.
LAST-MODIFIED:20190313T183301Z
URL:https://ufal.br/ufal/extensao/cultura/2019/24o-fim-de-semana-no-museu
END:VEVENT
BEGIN:VTIMEZONE
TZID:America/Maceio
X-LIC-LOCATION:America/Maceio
BEGIN:STANDARD
DTSTART:20020216T230000
TZNAME:-03
TZOFFSETFROM:-0200
TZOFFSETTO:-0300
END:STANDARD
END:VTIMEZONE
END:VCALENDAR
