BEGIN:VCALENDAR
VERSION:2.0
PRODID:-//Plone.org//NONSGML plone.app.event//EN
X-WR-TIMEZONE:America/Maceio
BEGIN:VEVENT
SUMMARY:1° Encontro de Violinos acontece na Ufal
DTSTART;TZID=America/Maceio:20190518T080000
DTEND;TZID=America/Maceio:20190518T160000
DTSTAMP:20260420T075604Z
UID:ac4f2e380a084168abf039a995ebdf58@principal.ufal.br
CREATED:20190509T193714Z
DESCRIPTION:Próximo dia 18\, o Laboratório de Violino da Ufal promove o 
 1º Encontro de Violinos\, coordenado pela professora Débora Borges. Ser
 á das 8h às 16h\, no Espaço Cultural\, na Praça Visconde de Sinimbu. O
  evento é todo gratuito e quem quiser pode participar. Na programação t
 em palestra sobre ansiedade na performance musical\; master class de violi
 no e recital didático do Laboratório de Violino\, com participação do 
 Duo Clarino\, formado por Débora Borges\, no violino\, e José Romero\, n
 o clarinete.
LAST-MODIFIED:20190509T193728Z
URL:https://ufal.br/ufal/extensao/cultura/2019/1deg-encontro-de-violinos-a
 contece-na-ufal
END:VEVENT
BEGIN:VTIMEZONE
TZID:America/Maceio
X-LIC-LOCATION:America/Maceio
BEGIN:STANDARD
DTSTART:20020216T230000
TZNAME:-03
TZOFFSETFROM:-0200
TZOFFSETTO:-0300
END:STANDARD
END:VTIMEZONE
END:VCALENDAR
