BEGIN:VCALENDAR
VERSION:2.0
PRODID:-//Plone.org//NONSGML plone.app.event//EN
X-WR-TIMEZONE:America/Maceio
BEGIN:VEVENT
SUMMARY:Usina Ciência promove mais uma edição do Cientifica Mente
DTSTART;TZID=America/Maceio:20180614T100000
DTEND;TZID=America/Maceio:20180615T210000
DTSTAMP:20260420T100408Z
UID:6518bc4fcaf94be29417afb5d8adf1bb@principal.ufal.br
CONTACT:Monique Angelo\, professora do Instituto de Química e Biotecnolog
 ia da Ufal e colaboradora da Usina
CREATED:20180614T211204Z
DESCRIPTION:Hoje e amanhã\, acontece a 5ª edição do Cientifica Mente\,
  a primeira de 2018\, promovido pela Usina Ciência\, o Instituto de Quím
 ica e Biotecnologia da Ufal e o Grupo Quiciência. Na programação shows 
 de Química\, Física\, Biologia e Planetário\, unindo ciência e conheci
 mento em um só lugar: a sede da própria Usina Ciência. O horário de vi
 sitação será das 10h às 21h. A entrada é gratuita.
LAST-MODIFIED:20180614T211816Z
LOCATION:Usina Ciência\, na Av. Aristeu de Andradre\, 452 - Farol\, Macei
 ó - AL.
URL:https://ufal.br/ufal/extensao/cultura/2018/usina-ciencia-promove-mais-
 uma-edicao-do-cientifica-mente
END:VEVENT
BEGIN:VTIMEZONE
TZID:America/Maceio
X-LIC-LOCATION:America/Maceio
BEGIN:STANDARD
DTSTART:20020216T230000
TZNAME:-03
TZOFFSETFROM:-0200
TZOFFSETTO:-0300
END:STANDARD
END:VTIMEZONE
END:VCALENDAR
