BEGIN:VCALENDAR
VERSION:2.0
PRODID:-//Plone.org//NONSGML plone.app.event//EN
X-WR-TIMEZONE:America/Maceio
BEGIN:VEVENT
SUMMARY:Usina Ciência participa da Semana Nacional de Ciência e Tecnolog
 ia
DTSTART;TZID=America/Maceio:20181016T170000
DTEND;TZID=America/Maceio:20181016T180000
DTSTAMP:20260420T062107Z
UID:3440a0bcd17a4925870920cfe0a31b81@principal.ufal.br
CONTACT:https://ufal.br/ufal/extensao/cultura/2018/usina-ciencia-participa
 -da-semana-nacional-de-ciencia-e-tecnologia
CREATED:20181016T200421Z
DESCRIPTION:De 15 a 21 deste mês\, acontece a Semana Nacional de Ciência
  e Tecnologia\, com o tema Ciência para a redução das desigualdades. Em
  Alagoas\, a programação começou mais cedo\, na quinta-feira (11)\, com
  atividades na Usina Ciência\, parceira do evento\, iniciando a 14ª edi
 ção da Caravana Itinerante de Ciência e Tecnologia\, com a visita de al
 unos da Educação de Jovens e Adultos (EJA)\, que vão assistir aos shows
  de Química\, Física e Biologia.
LAST-MODIFIED:20181016T220920Z
URL:https://ufal.br/ufal/extensao/cultura/2018/usina-ciencia-participa-da-
 semana-nacional-de-ciencia-e-tecnologia
END:VEVENT
BEGIN:VTIMEZONE
TZID:America/Maceio
X-LIC-LOCATION:America/Maceio
BEGIN:STANDARD
DTSTART:20020216T230000
TZNAME:-03
TZOFFSETFROM:-0200
TZOFFSETTO:-0300
END:STANDARD
END:VTIMEZONE
END:VCALENDAR
