BEGIN:VCALENDAR
VERSION:2.0
PRODID:-//Plone.org//NONSGML plone.app.event//EN
X-WR-TIMEZONE:America/Maceio
BEGIN:VEVENT
SUMMARY:Sonatas de Mozart e Joseph Haydn no recital de piano da ETA
DTSTART;TZID=America/Maceio:20180830T190000
DTEND;TZID=America/Maceio:20180830T200000
DTSTAMP:20260420T053739Z
UID:d3770e3f8b1445a0b0b21a8d53623c6b@principal.ufal.br
CONTACT:https://ufal.br/ufal/noticias/2018/8/sonatas-de-mozart-e-joseph-ha
 ydn-compoem-repertorio-de-recital-de-piano
CREATED:20180828T204120Z
DESCRIPTION:Obras dos compositores Amadeus Mozart e Joseph Haydn vão comp
 or o repertório do Recital de Piano com participação de quatro alunos d
 a Escola Técnica de Artes (ETA) da Universidade Federal de Alagoas. O eve
 nto marca o encerramento do semestre letivo e acontece na próxima quinta-
 feira\, 30 de agostoi\, às 19h\, no Espaço Cultural. A entrada é gratui
 ta.
LAST-MODIFIED:20180828T204125Z
URL:https://ufal.br/ufal/extensao/cultura/2018/sonatas-de-mozart-e-joseph-
 haydn-no-recital-de-piano-da-eta
END:VEVENT
BEGIN:VTIMEZONE
TZID:America/Maceio
X-LIC-LOCATION:America/Maceio
BEGIN:STANDARD
DTSTART:20020216T230000
TZNAME:-03
TZOFFSETFROM:-0200
TZOFFSETTO:-0300
END:STANDARD
END:VTIMEZONE
END:VCALENDAR
