BEGIN:VCALENDAR
VERSION:2.0
PRODID:-//Plone.org//NONSGML plone.app.event//EN
X-WR-TIMEZONE:America/Maceio
BEGIN:VEVENT
SUMMARY:Recitais de encerramento de semestre letivo da ETA
DTSTART;TZID=America/Maceio:20181022T140000
DTEND;TZID=America/Maceio:20181024T170000
DTSTAMP:20260420T134316Z
UID:8c87f31236b841fa8e4984ec092d9f02@principal.ufal.br
CREATED:20181016T195654Z
DESCRIPTION:De 22 a 24 de outubro acontecem vários recitais de encerramen
 to do semestre letivo dos cursos técnicos em instrumento musical e canto 
 da Escola Técnica de Artes (ETA) da Universidade Federal de Alagoas. O ev
 ento é aberto ao público e quem quiser pode assistir\; é só chegar no 
 Espaço Cultural da Ufal\, na Praça Visconde de Sinimbu\, à tarde\, a pa
 rtir das 14h.
LAST-MODIFIED:20181016T195702Z
URL:https://ufal.br/ufal/extensao/cultura/2018/recitais-de-encerramento-de
 -semestre-letivo-da-eta
END:VEVENT
BEGIN:VTIMEZONE
TZID:America/Maceio
X-LIC-LOCATION:America/Maceio
BEGIN:STANDARD
DTSTART:20020216T230000
TZNAME:-03
TZOFFSETFROM:-0200
TZOFFSETTO:-0300
END:STANDARD
END:VTIMEZONE
END:VCALENDAR
