BEGIN:VCALENDAR
VERSION:2.0
PRODID:-//Plone.org//NONSGML plone.app.event//EN
X-WR-TIMEZONE:America/Maceio
BEGIN:VEVENT
SUMMARY:Quinta Sinfônica deste mês terá orquestra de cordas no palco do
  Deodoro
DTSTART;TZID=America/Maceio:20181018T200000
DTEND;TZID=America/Maceio:20181018T210000
DTSTAMP:20260420T064141Z
UID:fda381b4acce4db1b8f10ed329b99e8f@principal.ufal.br
CREATED:20181016T195456Z
DESCRIPTION:O projeto Quinta Sinfônica deste mês traz uma proposta difer
 ente para o concerto da Orquestra Sinfônica da Universidade Federal de Al
 agoas. A apresentação no Teatro Deodoro será dia 18\, às 20h\, com uma
  formação de orquestra de cordas\, com músicas do século 20 e sons bem
  diferentes do que vem sendo apresentado ao longo dos últimos sete anos. 
 Quem quiser assistir\, a entrada é gratuita!
LAST-MODIFIED:20181016T195525Z
URL:https://ufal.br/ufal/extensao/cultura/2018/quinta-sinfonica-deste-mes-
 tera-orquestra-de-cordas-no-palco-do-deodoro
END:VEVENT
BEGIN:VTIMEZONE
TZID:America/Maceio
X-LIC-LOCATION:America/Maceio
BEGIN:STANDARD
DTSTART:20020216T230000
TZNAME:-03
TZOFFSETFROM:-0200
TZOFFSETTO:-0300
END:STANDARD
END:VTIMEZONE
END:VCALENDAR
