BEGIN:VCALENDAR
VERSION:2.0
PRODID:-//Plone.org//NONSGML plone.app.event//EN
X-WR-TIMEZONE:America/Maceio
BEGIN:VEVENT
SUMMARY:Pinacoteca Universitária na Primavera dos Museus
DTSTART;TZID=America/Maceio:20180919T180000
DTEND;TZID=America/Maceio:20180920T190000
DTSTAMP:20260419T222355Z
UID:880a5495a19f46b983dd269421d0c8ef@principal.ufal.br
CONTACT:https://ufal.br/ufal/noticias/2018/9/pinacoteca-universitaria-part
 icipa-da-12a-primavera-dos-museus
CREATED:20180919T211026Z
DESCRIPTION:A Pinacoteca Universitária participa da 12ª edição da Prim
 avera dos Museus\, que\, este ano\, aborda o tema Celebrando a educação 
 em museus. O evento ocorre nacionalmente entre os dias 17 e 23 de setembro
  e é promovido pelo Instituto Brasileiro de Museus (Ibram). As atividades
  propostas pela Pinacoteca\, museu de arte contemporânea da Universidade 
 Federal de Alagoas (Ufal)\, acontecem nos dias 19 e 20 e refletem sobre o 
 papel da educação museal.
LAST-MODIFIED:20180919T211046Z
URL:https://ufal.br/ufal/extensao/cultura/2018/pinacoteca-universitaria-na
 -primavera-dos-museus
END:VEVENT
BEGIN:VTIMEZONE
TZID:America/Maceio
X-LIC-LOCATION:America/Maceio
BEGIN:STANDARD
DTSTART:20020216T230000
TZNAME:-03
TZOFFSETFROM:-0200
TZOFFSETTO:-0300
END:STANDARD
END:VTIMEZONE
END:VCALENDAR
