BEGIN:VCALENDAR
VERSION:2.0
PRODID:-//Plone.org//NONSGML plone.app.event//EN
X-WR-TIMEZONE:America/Maceio
BEGIN:VEVENT
SUMMARY:Lançamento de livro do fotógrafo pernambucano Eduardo Queiroga n
 o MTB
DTSTART;TZID=America/Maceio:20181003T150000
DTEND;TZID=America/Maceio:20181003T160000
DTSTAMP:20260421T020826Z
UID:b6eaa99b81b247499f038e3c0eb2f0cb@principal.ufal.br
CONTACT:https://ufal.br/ufal/noticias/2018/9/livro-de-fotografo-pernambuca
 no-sera-lancado-no-mtb
CREATED:20181001T211028Z
DESCRIPTION:Na próxima quarta-feira\, 3 de outubro\, às 15h\, o Museu Th
 éo Brandão (MTB) sediará o lançamento do livro Cordão\, resultado de 
 dez anos de imersão do fotógrafo e professor Eduardo Queiroga no univers
 o das parteiras tradicionais de Pernambuco.
LAST-MODIFIED:20181001T211034Z
URL:https://ufal.br/ufal/extensao/cultura/2018/lancamento-de-livro-do-foto
 grafo-pernambucano-eduardo-queiroga-no-mtb
END:VEVENT
BEGIN:VTIMEZONE
TZID:America/Maceio
X-LIC-LOCATION:America/Maceio
BEGIN:STANDARD
DTSTART:20020216T230000
TZNAME:-03
TZOFFSETFROM:-0200
TZOFFSETTO:-0300
END:STANDARD
END:VTIMEZONE
END:VCALENDAR
