BEGIN:VCALENDAR
VERSION:2.0
PRODID:-//Plone.org//NONSGML plone.app.event//EN
X-WR-TIMEZONE:America/Maceio
BEGIN:VEVENT
SUMMARY:Grupo Abí Axé Egbé participa da Semana de Direitos Humanos em P
 almas-TO
DTSTART;TZID=America/Maceio:20181016T160000
DTEND;TZID=America/Maceio:20181019T170000
DTSTAMP:20260420T082515Z
UID:fa8793a171924d02b88f91618f7a5266@principal.ufal.br
CONTACT:https://ufal.br/ufal/noticias/2018/10/grupo-abi-axe-egbe-participa
 -da-semana-de-direitos-humanos-em-palmas-1
CREATED:20181016T195921Z
DESCRIPTION:Nosso grupo Abí Axé Egbé participa da Semana de Direitos Hu
 manos em Palmas\, de hoje até sexta-feira\, dia 19\, na Universidade Esta
 dual do Tocantins. Durante esses quatro dias\, o Abí Axé vai realizar v
 árias ações políticas\, educativas e artísticas a partir de trabalho 
 pedagógico na perspectiva antirracista.
LAST-MODIFIED:20181016T195927Z
URL:https://ufal.br/ufal/extensao/cultura/2018/grupo-abi-axe-egbe-particip
 a-da-semana-de-direitos-humanos-em-palmas-to
END:VEVENT
BEGIN:VTIMEZONE
TZID:America/Maceio
X-LIC-LOCATION:America/Maceio
BEGIN:STANDARD
DTSTART:20020216T230000
TZNAME:-03
TZOFFSETFROM:-0200
TZOFFSETTO:-0300
END:STANDARD
END:VTIMEZONE
END:VCALENDAR
