BEGIN:VCALENDAR
VERSION:2.0
PRODID:-//Plone.org//NONSGML plone.app.event//EN
X-WR-TIMEZONE:America/Maceio
BEGIN:VEVENT
SUMMARY:2º Percufal - Encontro Internacional de Percussão da Escola Téc
 nica de Artes da Ufal
DTSTART;TZID=America/Maceio:20180825T090000
DTEND;TZID=America/Maceio:20180825T190000
DTSTAMP:20260420T065821Z
UID:d831bc25033e42deadf768d51744004e@principal.ufal.br
CREATED:20180730T171535Z
DESCRIPTION:Na última semana de agosto\, os amantes e admiradores dos son
 s da marimba\, do vibrafone\, da bateria e de vários instrumentos do gên
 ero podem marcar no calendário o dia 25\, quando vão estar em Maceió gr
 andes nomes da percussão. Eles vêm participar do 2º Percufal - Encontro
  Internacional de Percussão da Escola Técnica de Artes (ETA) da Universi
 dade Federal de Alagoas\, que acontece no Espaço Cultural\, na Praça Vis
 conde de Sinimbu\, das 9h às 19h.
LAST-MODIFIED:20180808T222913Z
URL:https://ufal.br/ufal/extensao/cultura/2018/grandes-nomes-da-percussao-
 vao-estar-em-maceio-em-agosto
END:VEVENT
BEGIN:VTIMEZONE
TZID:America/Maceio
X-LIC-LOCATION:America/Maceio
BEGIN:STANDARD
DTSTART:20020216T230000
TZNAME:-03
TZOFFSETFROM:-0200
TZOFFSETTO:-0300
END:STANDARD
END:VTIMEZONE
END:VCALENDAR
