BEGIN:VCALENDAR
VERSION:2.0
PRODID:-//Plone.org//NONSGML plone.app.event//EN
X-WR-TIMEZONE:America/Maceio
BEGIN:VEVENT
SUMMARY:Folguedos e folia folclorista Ranilson França
DTSTART;TZID=America/Maceio:20180822T150000
DTEND;TZID=America/Maceio:20180829T050000
DTSTAMP:20260420T131245Z
UID:b388d05279834d90b7036d8701feb51a@principal.ufal.br
CONTACT:https://ufal.br/ufal/noticias/2018/8/folclore-e-comemorado-no-muse
 u-theo-brandao-com-programacao-especial
CREATED:20180822T190356Z
DESCRIPTION:O Museu Théo Brandão realiza o evento “Folguedos e folia f
 olclorista Ranilson França”. A programação teve início hoje\, 22 de 
 agosto\, Dia do Folclore\, com apresentações de folguedos\, forró\, ofi
 cina de coco de roda e abertura de exposição. Nos dias 28 e 29 deste mê
 s\, oficinas de cordel e de xilogravura vão dar continuidade aos festejos
 . \nNesta quarta\, às 19h\, terá início o show da banda Gil Neves e For
 ró Aceso. O evento vai contar com a abertura da exposição “Transart 
 – Acervo folclórico em cena”\, com peças representativas do Balé Fo
 lclórico de Alagoas – Transart. A mostra vai conter parte do acervo his
 tórico de adereços e figurinos usados nos espetáculos apresentados ao l
 ongo de 42 anos do grupo folclórico\, coordenado pelo professor da Ufal\,
  Rogers Aires.\nA programação é aberta ao público. Na realização do 
 evento\, o MTB contou com a parceria da Asfopal\, Fundação Municipal de 
 Ação Cultural (FMAC)\, Secretaria de Estado da Cultura (Secult) e do Pro
 grama Ronda no Bairro.
LAST-MODIFIED:20180822T190415Z
LOCATION:Museu Théo Brandão\, Avenida da Paz\, 1490\, Centro-Maceió-AL
URL:https://ufal.br/ufal/extensao/cultura/2018/folguedos-e-folia-folcloris
 ta-ranilson-franca
END:VEVENT
BEGIN:VTIMEZONE
TZID:America/Maceio
X-LIC-LOCATION:America/Maceio
BEGIN:STANDARD
DTSTART:20020216T230000
TZNAME:-03
TZOFFSETFROM:-0200
TZOFFSETTO:-0300
END:STANDARD
END:VTIMEZONE
END:VCALENDAR
