BEGIN:VCALENDAR
VERSION:2.0
PRODID:-//Plone.org//NONSGML plone.app.event//EN
X-WR-TIMEZONE:America/Maceio
BEGIN:VEVENT
SUMMARY:Festival Théo Brandão de Fotografias e Filmes Etnográficos
DTSTART;TZID=America/Maceio:20180903T140000
DTEND;TZID=America/Maceio:20180906T170000
DTSTAMP:20260420T144833Z
UID:12675463175f4e19bda682d4fb9eb69d@principal.ufal.br
CONTACT:https://ufal.br/ufal/noticias/2018/8/festival-theo-brandao-de-foto
 grafias-e-filmes-etnograficos-e-realizado-na-ufal
CREATED:20180903T175819Z
DESCRIPTION:Entre os dias 3 e 6 de setembro\, no Instituto de Ciências So
 cias (ICS)\, acontecerá o 1º Simpósio de Antropologia do PPGAS/Ufal. Si
 multâneo ao evento\, haverá o 3° Festival Théo Brandão de Fotografias
  e Filmes Etnográficos (MTBFest) e o 3° Aval Internacional. O tema desse
  ano é "Direitos culturais\, diversidade\, ação!".
LAST-MODIFIED:20180903T175827Z
URL:https://ufal.br/ufal/extensao/cultura/2018/festival-theo-brandao-de-fo
 tografias-e-filmes-etnograficos
END:VEVENT
BEGIN:VTIMEZONE
TZID:America/Maceio
X-LIC-LOCATION:America/Maceio
BEGIN:STANDARD
DTSTART:20020216T230000
TZNAME:-03
TZOFFSETFROM:-0200
TZOFFSETTO:-0300
END:STANDARD
END:VTIMEZONE
END:VCALENDAR
