BEGIN:VCALENDAR
VERSION:2.0
PRODID:-//Plone.org//NONSGML plone.app.event//EN
X-WR-TIMEZONE:America/Maceio
BEGIN:VEVENT
SUMMARY:Exposição Théo e mamãe na folia
DTSTART;TZID=America/Maceio:20180911T100000
DTEND;TZID=America/Maceio:20180920T220000
DTSTAMP:20260419T140034Z
UID:a9c031169ae54e2db5fea4bc5e73d056@principal.ufal.br
CONTACT:https://ufal.br/ufal/noticias/2018/9/museu-theo-brandao-expoe-foli
 a-carnavalesca-no-maceio-shopping
CREATED:20180911T223437Z
DESCRIPTION:Acontece até 20 de setembro\, no Maceió Shopping\, a  exposi
 ção "Théo e mamãe na folia". São peças do acervo do Museu Théo Bran
 dão e de coleção particular. A mostra reúne elementos ligados à folia
 . Integrantes da Sala do Carnaval Alagoano\, no Museu\, Mamãe (do bloco F
 ilhinhos da Mamãe) e Moreninha (de Quebrângulo)\, bonecas que medem trê
 s metros de altura\, costumam aparecer no pré-carnaval maceioense. Desta 
 vez\, as bonecas gigantes poderão ser vistas também no shopping.
LAST-MODIFIED:20180911T223444Z
URL:https://ufal.br/ufal/extensao/cultura/2018/exposicao-theo-e-mamae-na-f
 olia
END:VEVENT
BEGIN:VTIMEZONE
TZID:America/Maceio
X-LIC-LOCATION:America/Maceio
BEGIN:STANDARD
DTSTART:20020216T230000
TZNAME:-03
TZOFFSETFROM:-0200
TZOFFSETTO:-0300
END:STANDARD
END:VTIMEZONE
END:VCALENDAR
