BEGIN:VCALENDAR
VERSION:2.0
PRODID:-//Plone.org//NONSGML plone.app.event//EN
X-WR-TIMEZONE:America/Maceio
BEGIN:VEVENT
SUMMARY:Exposição e desfile do curso de Produção de Moda destacam arte
  alagoana
DTSTART;TZID=America/Maceio:20180828T190000
DTEND;TZID=America/Maceio:20180831T180000
DTSTAMP:20260420T132419Z
UID:8f05c6176370418e89d6f3dbf106c884@principal.ufal.br
CONTACT:https://ufal.br/estudante/noticias/2018/8/exposicao-e-desfile-do-c
 urso-de-producao-de-moda-destacam-arte-alagoana
CREATED:20180828T202938Z
DESCRIPTION:A 3ª edição do MEU na Moda\, com o tema Arte alagoana\, ser
 á aberta nesta terça\, 28 de agosto\, às 19h. O evento acontecerá no C
 omplexo Cultural Teatro Deodoro e traz para o público\, além de uma expo
 sição fotográfica com looks produzidos pelos alunos de Produção de Mo
 da da Escola Técnica de Artes da Ufal\, o desfile Bloco dos bobos\, uma h
 omenagem a artistas e expressões artísticas de Alagoas. A exposição es
 tará aberta até sexta-feira\, dia 31\, das 8h às 18h e a entrada é gra
 tuita.\nA ação faz parte da disciplina Experimento Prático\, ministrada
  pelas professoras Elizete Lili Menezes e Pollyanna Isbelo\, e celebra a f
 ormação técnica da terceira turma de Produção de Moda da ETA/Ufal.
LAST-MODIFIED:20180828T202944Z
URL:https://ufal.br/ufal/extensao/cultura/2018/exposicao-e-desfile-do-curs
 o-de-producao-de-moda-destacam-arte-alagoana
END:VEVENT
BEGIN:VTIMEZONE
TZID:America/Maceio
X-LIC-LOCATION:America/Maceio
BEGIN:STANDARD
DTSTART:20020216T230000
TZNAME:-03
TZOFFSETFROM:-0200
TZOFFSETTO:-0300
END:STANDARD
END:VTIMEZONE
END:VCALENDAR
