BEGIN:VCALENDAR
VERSION:2.0
PRODID:-//Plone.org//NONSGML plone.app.event//EN
X-WR-TIMEZONE:America/Maceio
BEGIN:VEVENT
SUMMARY:Exposição do MTB mostra história de grupo folclórico
DTSTART;TZID=America/Maceio:20180919T180000
DTEND;TZID=America/Maceio:20181005T190000
DTSTAMP:20260420T124703Z
UID:86c71cd91df84a49b4b9f7cb4b65d1c8@principal.ufal.br
CONTACT:https://ufal.br/ufal/noticias/2018/9/exposicao-do-mtb-mostra-histo
 ria-de-grupo-folclorico
CREATED:20180919T213725Z
DESCRIPTION:A exposição Transart – Acervo folclórico em cena está ab
 erta no Museu Théo Brandão até o dia 5 de outubro\, com peças que são
  parte do acervo histórico de adereços e figurinos usados nos espetácul
 os apresentados ao longo de 42 anos do Balé Folclórico de Alagoas\, coor
 denado pelo professor da Ufal\, Rogers Aires.
LAST-MODIFIED:20180919T213805Z
URL:https://ufal.br/ufal/extensao/cultura/2018/exposicao-do-mtb-mostra-his
 toria-de-grupo-folclorico
END:VEVENT
BEGIN:VTIMEZONE
TZID:America/Maceio
X-LIC-LOCATION:America/Maceio
BEGIN:STANDARD
DTSTART:20020216T230000
TZNAME:-03
TZOFFSETFROM:-0200
TZOFFSETTO:-0300
END:STANDARD
END:VTIMEZONE
END:VCALENDAR
