BEGIN:VCALENDAR
VERSION:2.0
PRODID:-//Plone.org//NONSGML plone.app.event//EN
X-WR-TIMEZONE:America/Maceio
BEGIN:VEVENT
SUMMARY:Escola Técnica de Artes promove Encontro de Dança Tribal
DTSTART;TZID=America/Maceio:20181026T080000
DTEND;TZID=America/Maceio:20181027T190000
DTSTAMP:20260420T205215Z
UID:e4831e9a0e1444c59b6eb77edf3b2a28@principal.ufal.br
CREATED:20181016T200841Z
DESCRIPTION:A dança tribal vai invadir o Espaço Cultural da Ufal e o Com
 plexo Cultural Teatro Deodoro nos próximos 26 e 27 de outubro. Durante os
  dois dias acontecerá o 3º Encontro de Dança Tribal da Escola Técnica 
 de Artes\, com a temática "Poéticas Feministas na Dança Tribal". O even
 to vai reunir convidados nacionais para compartilhamento de saberes e prá
 ticas em ações como oficinas\, palestras e mostra artística de processo
  corográficos - “hafla”.
LAST-MODIFIED:20181016T200847Z
URL:https://ufal.br/ufal/extensao/cultura/2018/escola-tecnica-de-artes-pro
 move-encontro-de-danca-tribal
END:VEVENT
BEGIN:VTIMEZONE
TZID:America/Maceio
X-LIC-LOCATION:America/Maceio
BEGIN:STANDARD
DTSTART:20020216T230000
TZNAME:-03
TZOFFSETFROM:-0200
TZOFFSETTO:-0300
END:STANDARD
END:VTIMEZONE
END:VCALENDAR
